BEGIN:VCALENDAR
VERSION:2.0
PRODID:-//Grotte - ECPv4.4.1.1//NONSGML v1.0//EN
CALSCALE:GREGORIAN
METHOD:PUBLISH
X-WR-CALNAME:Grotte
X-ORIGINAL-URL:https://grotte-hannover.de
X-WR-CALDESC:Events for Grotte
BEGIN:VEVENT
DTSTART;TZID=Europe/Berlin:20240622T180000
DTEND;TZID=Europe/Berlin:20240622T203000
DTSTAMP:20260425T211337
CREATED:20240622T161101Z
LAST-MODIFIED:20240622T161110Z
UID:1035-1719079200-1719088200@grotte-hannover.de
SUMMARY:Türkei - Portugal
DESCRIPTION:
URL:https://grotte-hannover.de/event/tuerkei-portugal/
END:VEVENT
END:VCALENDAR