BEGIN:VCALENDAR
VERSION:2.0
PRODID:-//Grotte - ECPv4.4.1.1//NONSGML v1.0//EN
CALSCALE:GREGORIAN
METHOD:PUBLISH
X-WR-CALNAME:Grotte
X-ORIGINAL-URL:https://grotte-hannover.de
X-WR-CALDESC:Events for Grotte
BEGIN:VEVENT
DTSTART;TZID=Europe/Berlin:20170521T153000
DTEND;TZID=Europe/Berlin:20170521T173000
DTSTAMP:20260421T080259
CREATED:20170227T201230Z
LAST-MODIFIED:20170227T201230Z
UID:216-1495380600-1495387800@grotte-hannover.de
SUMMARY:SV Sandhausen vs Hannover 96
DESCRIPTION:
URL:https://grotte-hannover.de/event/sv-sandhausen-vs-hannover-96/
LOCATION:Große Pfahlstr. 14\, Hannover\, Niedersachsen\, 30161\, Deutschland
END:VEVENT
END:VCALENDAR