BEGIN:VCALENDAR
VERSION:2.0
PRODID:-//Grotte - ECPv4.4.1.1//NONSGML v1.0//EN
CALSCALE:GREGORIAN
METHOD:PUBLISH
X-WR-CALNAME:Grotte
X-ORIGINAL-URL:https://grotte-hannover.de
X-WR-CALDESC:Events for Grotte
BEGIN:VEVENT
DTSTART;TZID=Europe/Berlin:20170228T203000
DTEND;TZID=Europe/Berlin:20170228T223000
DTSTAMP:20260421T135000
CREATED:20170227T201855Z
LAST-MODIFIED:20170227T201855Z
UID:224-1488313800-1488321000@grotte-hannover.de
SUMMARY:Sportfreunde Lotte vs Borussia Dortmund
DESCRIPTION:Viertelfinale
URL:https://grotte-hannover.de/event/sportfreunde-lotte-vs-borussia-dortmund/
LOCATION:Große Pfahlstr. 14\, Hannover\, Niedersachsen\, 30161\, Deutschland
END:VEVENT
END:VCALENDAR