BEGIN:VCALENDAR
VERSION:2.0
PRODID:-//Grotte - ECPv4.4.1.1//NONSGML v1.0//EN
CALSCALE:GREGORIAN
METHOD:PUBLISH
X-WR-CALNAME:Grotte
X-ORIGINAL-URL:https://grotte-hannover.de
X-WR-CALDESC:Events for Grotte
BEGIN:VEVENT
DTSTART;TZID=Europe/Berlin:20241231T100000
DTEND;TZID=Europe/Berlin:20241231T160000
DTSTAMP:20260422T161927
CREATED:20241229T104351Z
LAST-MODIFIED:20241229T110627Z
UID:1072-1735639200-1735660800@grotte-hannover.de
SUMMARY:Silvesterfrühstück von 10:00 Uhr bis 16:00 Uhr
DESCRIPTION:
URL:https://grotte-hannover.de/event/silvesterfruehstueck-von-1000-uhr-bis-1600-uhr/
END:VEVENT
END:VCALENDAR