BEGIN:VCALENDAR
VERSION:2.0
PRODID:-//Grotte - ECPv4.4.1.1//NONSGML v1.0//EN
CALSCALE:GREGORIAN
METHOD:PUBLISH
X-WR-CALNAME:Grotte
X-ORIGINAL-URL:https://grotte-hannover.de
X-WR-CALDESC:Events for Grotte
BEGIN:VEVENT
DTSTART;TZID=Europe/Berlin:20170702T200000
DTEND;TZID=Europe/Berlin:20170702T220000
DTSTAMP:20260421T153950
CREATED:20170612T132255Z
LAST-MODIFIED:20170612T132255Z
UID:375-1499025600-1499032800@grotte-hannover.de
SUMMARY:Sieger HF 1 -:- Sieger HF 2
DESCRIPTION:FIFA CONFEDERATIONS CUP FINALE\n\n
URL:https://grotte-hannover.de/event/sieger-hf-1-sieger-hf-2/
END:VEVENT
END:VCALENDAR