BEGIN:VCALENDAR
VERSION:2.0
PRODID:-//Grotte - ECPv4.4.1.1//NONSGML v1.0//EN
CALSCALE:GREGORIAN
METHOD:PUBLISH
X-WR-CALNAME:Grotte
X-ORIGINAL-URL:https://grotte-hannover.de
X-WR-CALDESC:Events for Grotte
BEGIN:VEVENT
DTSTART;TZID=Europe/Berlin:20170820T130000
DTEND;TZID=Europe/Berlin:20170820T210000
DTSTAMP:20260421T134817
CREATED:20170814T190245Z
LAST-MODIFIED:20170814T190245Z
UID:382-1503234000-1503262800@grotte-hannover.de
SUMMARY:Oststadfest in der Fundstraße.
DESCRIPTION:[caption id="attachment_380" align="alignleft" width="210"] Oststadtfest am Sonntag den 20.8.2017.[/caption]
URL:https://grotte-hannover.de/event/oststadfest-in-der-fundstrasse/
LOCATION:Fundstraße \, Hannover\, Niedersachsen\, 30161\, Deutschland
END:VEVENT
END:VCALENDAR