BEGIN:VCALENDAR
VERSION:2.0
PRODID:-//Grotte - ECPv4.4.1.1//NONSGML v1.0//EN
CALSCALE:GREGORIAN
METHOD:PUBLISH
X-WR-CALNAME:Grotte
X-ORIGINAL-URL:https://grotte-hannover.de
X-WR-CALDESC:Events for Grotte
BEGIN:VEVENT
DTSTART;TZID=Europe/Berlin:20171005T203000
DTEND;TZID=Europe/Berlin:20171005T203000
DTSTAMP:20260421T060712
CREATED:20170227T203159Z
LAST-MODIFIED:20170227T203159Z
UID:237-1507235400-1507235400@grotte-hannover.de
SUMMARY:Nordirland vs Deutschland
DESCRIPTION:WM- Qualifikation Gruppenphase
URL:https://grotte-hannover.de/event/nordirland-vs-deutschland/
END:VEVENT
END:VCALENDAR