BEGIN:VCALENDAR
VERSION:2.0
PRODID:-//Grotte - ECPv4.4.1.1//NONSGML v1.0//EN
CALSCALE:GREGORIAN
METHOD:PUBLISH
X-WR-CALNAME:Grotte
X-ORIGINAL-URL:https://grotte-hannover.de
X-WR-CALDESC:Events for Grotte
BEGIN:VEVENT
DTSTART;TZID=Europe/Berlin:20180615T170000
DTEND;TZID=Europe/Berlin:20180615T190000
DTSTAMP:20260421T084352
CREATED:20180612T164929Z
LAST-MODIFIED:20180612T164929Z
UID:532-1529082000-1529089200@grotte-hannover.de
SUMMARY:Marokko - Iran
DESCRIPTION:
URL:https://grotte-hannover.de/event/marokko-iran/
END:VEVENT
END:VCALENDAR