BEGIN:VCALENDAR
VERSION:2.0
PRODID:-//Grotte - ECPv4.4.1.1//NONSGML v1.0//EN
CALSCALE:GREGORIAN
METHOD:PUBLISH
X-WR-CALNAME:Grotte
X-ORIGINAL-URL:https://grotte-hannover.de
X-WR-CALDESC:Events for Grotte
BEGIN:VEVENT
DTSTART;TZID=Europe/Berlin:20170819T153000
DTEND;TZID=Europe/Berlin:20170819T173000
DTSTAMP:20260421T114424
CREATED:20170814T192231Z
LAST-MODIFIED:20170814T192231Z
UID:389-1503156600-1503163800@grotte-hannover.de
SUMMARY:Mainz 05 - Hannover 96
DESCRIPTION:
URL:https://grotte-hannover.de/event/mainz-05-hannover-96/
LOCATION:Große Pfahlstr. 14\, Hannover\, Niedersachsen\, 30161\, Deutschland
END:VEVENT
END:VCALENDAR