BEGIN:VCALENDAR
VERSION:2.0
PRODID:-//Grotte - ECPv4.4.1.1//NONSGML v1.0//EN
CALSCALE:GREGORIAN
METHOD:PUBLISH
X-WR-CALNAME:Grotte
X-ORIGINAL-URL:https://grotte-hannover.de
X-WR-CALDESC:Events for Grotte
BEGIN:VEVENT
DTSTART;TZID=Europe/Berlin:20180616T210000
DTEND;TZID=Europe/Berlin:20180616T230000
DTSTAMP:20260421T122522
CREATED:20180612T170031Z
LAST-MODIFIED:20180612T170031Z
UID:549-1529182800-1529190000@grotte-hannover.de
SUMMARY:Kroatien - Nigeria
DESCRIPTION:
URL:https://grotte-hannover.de/event/kroatien-nigeria/
LOCATION:Große Pfahlstr. 14\, Hannover\, Niedersachsen\, 30161\, Deutschland
END:VEVENT
END:VCALENDAR