BEGIN:VCALENDAR
VERSION:2.0
PRODID:-//Grotte - ECPv4.4.1.1//NONSGML v1.0//EN
CALSCALE:GREGORIAN
METHOD:PUBLISH
X-WR-CALNAME:Grotte
X-ORIGINAL-URL:https://grotte-hannover.de
X-WR-CALDESC:Events for Grotte
BEGIN:VEVENT
DTSTART;TZID=Europe/Berlin:20170311T153000
DTEND;TZID=Europe/Berlin:20170311T180000
DTSTAMP:20260421T134504
CREATED:20170227T204702Z
LAST-MODIFIED:20170227T204702Z
UID:251-1489246200-1489255200@grotte-hannover.de
SUMMARY:Konferenz
DESCRIPTION:
URL:https://grotte-hannover.de/event/konferenz/
END:VEVENT
END:VCALENDAR