BEGIN:VCALENDAR
VERSION:2.0
PRODID:-//Grotte - ECPv4.4.1.1//NONSGML v1.0//EN
CALSCALE:GREGORIAN
METHOD:PUBLISH
X-WR-CALNAME:Grotte
X-ORIGINAL-URL:https://grotte-hannover.de
X-WR-CALDESC:Events for Grotte
BEGIN:VEVENT
DTSTART;TZID=Europe/Berlin:20170405T200000
DTEND;TZID=Europe/Berlin:20170405T223000
DTSTAMP:20260421T114406
CREATED:20170227T210309Z
LAST-MODIFIED:20170227T210309Z
UID:278-1491422400-1491431400@grotte-hannover.de
SUMMARY:Konferenz
DESCRIPTION:Gladbach vs Hertha\nMainz vs Leipzig\nWolfsburg vs Freiburg\nAugsburg vs Ingolstadt\nDarmstadt vs Leverkusen\n
URL:https://grotte-hannover.de/event/konferenz-5/
END:VEVENT
END:VCALENDAR