BEGIN:VCALENDAR
VERSION:2.0
PRODID:-//Grotte - ECPv4.4.1.1//NONSGML v1.0//EN
CALSCALE:GREGORIAN
METHOD:PUBLISH
X-WR-CALNAME:Grotte
X-ORIGINAL-URL:https://grotte-hannover.de
X-WR-CALDESC:Events for Grotte
BEGIN:VEVENT
DTSTART;TZID=Europe/Berlin:20170304T130000
DTEND;TZID=Europe/Berlin:20170304T150000
DTSTAMP:20260421T114726
CREATED:20170227T195658Z
LAST-MODIFIED:20170227T195741Z
UID:201-1488632400-1488639600@grotte-hannover.de
SUMMARY:Karlsruher SC vs Hannover 96
DESCRIPTION:
URL:https://grotte-hannover.de/event/karlsruher-sc-vs-hannover-96/
LOCATION:Große Pfahlstr. 14\, Hannover\, Niedersachsen\, 30161\, Deutschland
END:VEVENT
END:VCALENDAR