BEGIN:VCALENDAR
VERSION:2.0
PRODID:-//Grotte - ECPv4.4.1.1//NONSGML v1.0//EN
CALSCALE:GREGORIAN
METHOD:PUBLISH
X-WR-CALNAME:Grotte
X-ORIGINAL-URL:https://grotte-hannover.de
X-WR-CALDESC:Events for Grotte
BEGIN:VEVENT
DTSTART;TZID=Europe/Berlin:20170311T183000
DTEND;TZID=Europe/Berlin:20170311T203000
DTSTAMP:20260421T160148
CREATED:20170227T204809Z
LAST-MODIFIED:20170227T204809Z
UID:253-1489257000-1489264200@grotte-hannover.de
SUMMARY:Inglostadt vs Köln
DESCRIPTION:
URL:https://grotte-hannover.de/event/inglostadt-vs-koeln/
LOCATION:Große Pfahlstr. 14\, Hannover\, Niedersachsen\, 30161\, Deutschland
END:VEVENT
END:VCALENDAR