BEGIN:VCALENDAR
VERSION:2.0
PRODID:-//Grotte - ECPv4.4.1.1//NONSGML v1.0//EN
CALSCALE:GREGORIAN
METHOD:PUBLISH
X-WR-CALNAME:Grotte
X-ORIGINAL-URL:https://grotte-hannover.de
X-WR-CALDESC:Events for Grotte
BEGIN:VEVENT
DTSTART;TZID=Europe/Berlin:20250222T203000
DTEND;TZID=Europe/Berlin:20250222T223000
DTSTAMP:20260422T142356
CREATED:20250222T163607Z
LAST-MODIFIED:20250222T163607Z
UID:1082-1740256200-1740263400@grotte-hannover.de
SUMMARY:Hannover 96 - SC Paderborn
DESCRIPTION:
URL:https://grotte-hannover.de/event/hannover-96-sc-paderborn/
END:VEVENT
END:VCALENDAR