BEGIN:VCALENDAR
VERSION:2.0
PRODID:-//Grotte - ECPv4.4.1.1//NONSGML v1.0//EN
CALSCALE:GREGORIAN
METHOD:PUBLISH
X-WR-CALNAME:Grotte
X-ORIGINAL-URL:https://grotte-hannover.de
X-WR-CALDESC:Events for Grotte
BEGIN:VEVENT
DTSTART;TZID=Europe/Berlin:20180505T153000
DTEND;TZID=Europe/Berlin:20180505T180000
DTSTAMP:20260419T205640
CREATED:20180404T201009Z
LAST-MODIFIED:20180404T201009Z
UID:470-1525534200-1525543200@grotte-hannover.de
SUMMARY:Hannover 96 - Hertha BSC
DESCRIPTION:
URL:https://grotte-hannover.de/event/hannover-96-hertha-bsc/
LOCATION:Große Pfahlstr. 14\, Hannover\, Niedersachsen\, 30161\, Deutschland
END:VEVENT
END:VCALENDAR