BEGIN:VCALENDAR
VERSION:2.0
PRODID:-//Grotte - ECPv4.4.1.1//NONSGML v1.0//EN
CALSCALE:GREGORIAN
METHOD:PUBLISH
X-WR-CALNAME:Grotte
X-ORIGINAL-URL:https://grotte-hannover.de
X-WR-CALDESC:Events for Grotte
BEGIN:VEVENT
DTSTART;VALUE=DATE:20170310
DTEND;VALUE=DATE:20170310
DTSTAMP:20260421T114445
CREATED:20170227T194345Z
LAST-MODIFIED:20170227T195024Z
UID:194-1489104000-1489190399@grotte-hannover.de
SUMMARY:geschlossene Veranstaltung
DESCRIPTION:Liebe Gäste\, \n \nheute haben wir geschlossene Gesellschaft. \nWir freuen uns euch morgen wieder zu sehen :)
URL:https://grotte-hannover.de/event/geschlossene-veranstaltung/
LOCATION:Große Pfahlstr. 14\, Hannover\, Niedersachsen\, 30161\, Deutschland
END:VEVENT
END:VCALENDAR