BEGIN:VCALENDAR
VERSION:2.0
PRODID:-//Grotte - ECPv4.4.1.1//NONSGML v1.0//EN
CALSCALE:GREGORIAN
METHOD:PUBLISH
X-WR-CALNAME:Grotte
X-ORIGINAL-URL:https://grotte-hannover.de
X-WR-CALDESC:Events for Grotte
BEGIN:VEVENT
DTSTART;TZID=Europe/Berlin:20170305T153000
DTEND;TZID=Europe/Berlin:20170305T173000
DTSTAMP:20260421T100219
CREATED:20170227T204359Z
LAST-MODIFIED:20170227T204359Z
UID:247-1488727800-1488735000@grotte-hannover.de
SUMMARY:Frankfurt vs Freiburg
DESCRIPTION:1. Bundesliga
URL:https://grotte-hannover.de/event/frankfurt-vs-freiburg/
LOCATION:Große Pfahlstr. 14\, Hannover\, Niedersachsen\, 30161\, Deutschland
END:VEVENT
END:VCALENDAR