BEGIN:VCALENDAR
VERSION:2.0
PRODID:-//Grotte - ECPv4.4.1.1//NONSGML v1.0//EN
CALSCALE:GREGORIAN
METHOD:PUBLISH
X-WR-CALNAME:Grotte
X-ORIGINAL-URL:https://grotte-hannover.de
X-WR-CALDESC:Events for Grotte
BEGIN:VEVENT
DTSTART;TZID=Europe/Berlin:20170318T130000
DTEND;TZID=Europe/Berlin:20170318T150000
DTSTAMP:20260421T134817
CREATED:20170227T200038Z
LAST-MODIFIED:20170227T200038Z
UID:206-1489842000-1489849200@grotte-hannover.de
SUMMARY:FC St. Pauli vs Hannover 96
DESCRIPTION:
URL:https://grotte-hannover.de/event/fc-st-pauli-vs-hannover-96/
LOCATION:Große Pfahlstr. 14\, Hannover\, Niedersachsen\, 30161\, Deutschland
END:VEVENT
END:VCALENDAR