BEGIN:VCALENDAR
VERSION:2.0
PRODID:-//Grotte - ECPv4.4.1.1//NONSGML v1.0//EN
CALSCALE:GREGORIAN
METHOD:PUBLISH
X-WR-CALNAME:Grotte
X-ORIGINAL-URL:https://grotte-hannover.de
X-WR-CALDESC:Events for Grotte
BEGIN:VEVENT
DTSTART;TZID=Europe/Berlin:20170412T203000
DTEND;TZID=Europe/Berlin:20170412T220000
DTSTAMP:20260421T114537
CREATED:20170403T184801Z
LAST-MODIFIED:20170403T184801Z
UID:316-1492029000-1492034400@grotte-hannover.de
SUMMARY:Fc Bayern vs Real Madrid
DESCRIPTION:Champions league
URL:https://grotte-hannover.de/event/fc-bayern-vs-real-madrid/
LOCATION:Große Pfahlstr. 14\, Hannover\, Niedersachsen\, 30161\, Deutschland
END:VEVENT
END:VCALENDAR