BEGIN:VCALENDAR
VERSION:2.0
PRODID:-//Grotte - ECPv4.4.1.1//NONSGML v1.0//EN
CALSCALE:GREGORIAN
METHOD:PUBLISH
X-WR-CALNAME:Grotte
X-ORIGINAL-URL:https://grotte-hannover.de
X-WR-CALDESC:Events for Grotte
BEGIN:VEVENT
DTSTART;TZID=Europe/Berlin:20180404T203000
DTEND;TZID=Europe/Berlin:20180404T230000
DTSTAMP:20260420T074909
CREATED:20180404T195842Z
LAST-MODIFIED:20180404T195842Z
UID:450-1522873800-1522882800@grotte-hannover.de
SUMMARY:FC Bayern - Sevilla
DESCRIPTION:Champions League
URL:https://grotte-hannover.de/event/fc-bayern-sevilla/
LOCATION:Große Pfahlstr. 14\, Hannover\, Niedersachsen\, 30161\, Deutschland
END:VEVENT
END:VCALENDAR