BEGIN:VCALENDAR
VERSION:2.0
PRODID:-//Grotte - ECPv4.4.1.1//NONSGML v1.0//EN
CALSCALE:GREGORIAN
METHOD:PUBLISH
X-WR-CALNAME:Grotte
X-ORIGINAL-URL:https://grotte-hannover.de
X-WR-CALDESC:Events for Grotte
BEGIN:VEVENT
DTSTART;TZID=Europe/Berlin:20180516T200000
DTEND;TZID=Europe/Berlin:20180516T230000
DTSTAMP:20260419T171952
CREATED:20180404T201218Z
LAST-MODIFIED:20180404T201218Z
UID:474-1526500800-1526511600@grotte-hannover.de
SUMMARY:Europa League Finale
DESCRIPTION:
URL:https://grotte-hannover.de/event/europa-league-finale/
LOCATION:Große Pfahlstr. 14\, Hannover\, Niedersachsen\, 30161\, Deutschland
END:VEVENT
END:VCALENDAR