BEGIN:VCALENDAR
VERSION:2.0
PRODID:-//Grotte - ECPv4.4.1.1//NONSGML v1.0//EN
CALSCALE:GREGORIAN
METHOD:PUBLISH
X-WR-CALNAME:Grotte
X-ORIGINAL-URL:https://grotte-hannover.de
X-WR-CALDESC:Events for Grotte
BEGIN:VEVENT
DTSTART;TZID=Europe/Berlin:20240706T180000
DTEND;TZID=Europe/Berlin:20240706T210000
DTSTAMP:20260422T220848
CREATED:20240628T205906Z
LAST-MODIFIED:20240628T205906Z
UID:1062-1720288800-1720299600@grotte-hannover.de
SUMMARY:EM Viertelfinale
DESCRIPTION:
URL:https://grotte-hannover.de/event/em-viertelfinale-3/
END:VEVENT
END:VCALENDAR