BEGIN:VCALENDAR
VERSION:2.0
PRODID:-//Grotte - ECPv4.4.1.1//NONSGML v1.0//EN
CALSCALE:GREGORIAN
METHOD:PUBLISH
X-WR-CALNAME:Grotte
X-ORIGINAL-URL:https://grotte-hannover.de
X-WR-CALDESC:Events for Grotte
BEGIN:VEVENT
DTSTART;TZID=Europe/Berlin:20240623T210000
DTEND;TZID=Europe/Berlin:20240623T233000
DTSTAMP:20260425T174512
CREATED:20240622T161243Z
LAST-MODIFIED:20240622T161408Z
UID:1039-1719176400-1719185400@grotte-hannover.de
SUMMARY:EM Gruppenphase Schweiz- Deutschland
DESCRIPTION:
URL:https://grotte-hannover.de/event/em-gruppenphase-schweiz-deutschland/
END:VEVENT
END:VCALENDAR