BEGIN:VCALENDAR
VERSION:2.0
PRODID:-//Grotte - ECPv4.4.1.1//NONSGML v1.0//EN
CALSCALE:GREGORIAN
METHOD:PUBLISH
X-WR-CALNAME:Grotte
X-ORIGINAL-URL:https://grotte-hannover.de
X-WR-CALDESC:Events for Grotte
BEGIN:VEVENT
DTSTART;TZID=Europe/Berlin:20240622T210000
DTEND;TZID=Europe/Berlin:20240622T233000
DTSTAMP:20260425T193333
CREATED:20240622T161154Z
LAST-MODIFIED:20240622T161154Z
UID:1037-1719090000-1719099000@grotte-hannover.de
SUMMARY:EM Gruppenphase Belgien-Rumänien
DESCRIPTION:
URL:https://grotte-hannover.de/event/em-gruppenphase-belgien-rumaenien/
END:VEVENT
END:VCALENDAR