BEGIN:VCALENDAR
VERSION:2.0
PRODID:-//Grotte - ECPv4.4.1.1//NONSGML v1.0//EN
CALSCALE:GREGORIAN
METHOD:PUBLISH
X-WR-CALNAME:Grotte
X-ORIGINAL-URL:https://grotte-hannover.de
X-WR-CALDESC:Events for Grotte
BEGIN:VEVENT
DTSTART;TZID=Europe/Berlin:20240714T190000
DTEND;TZID=Europe/Berlin:20240714T233000
DTSTAMP:20260422T201257
CREATED:20240713T223643Z
LAST-MODIFIED:20240713T223643Z
UID:1068-1720983600-1720999800@grotte-hannover.de
SUMMARY:EM Finale ab 19Uhr geöffnet
DESCRIPTION:
URL:https://grotte-hannover.de/event/em-finale-ab-19uhr-geoeffnet/
END:VEVENT
END:VCALENDAR