BEGIN:VCALENDAR
VERSION:2.0
PRODID:-//Grotte - ECPv4.4.1.1//NONSGML v1.0//EN
CALSCALE:GREGORIAN
METHOD:PUBLISH
X-WR-CALNAME:Grotte
X-ORIGINAL-URL:https://grotte-hannover.de
X-WR-CALDESC:Events for Grotte
BEGIN:VEVENT
DTSTART;TZID=Europe/Berlin:20240702T180000
DTEND;TZID=Europe/Berlin:20240702T200000
DTSTAMP:20260423T052407
CREATED:20240628T205602Z
LAST-MODIFIED:20240628T205602Z
UID:1054-1719943200-1719950400@grotte-hannover.de
SUMMARY:EM Achtelfinale Rumänien - Niederlande
DESCRIPTION:
URL:https://grotte-hannover.de/event/em-achtelfinale-rumaenien-niederlande/
END:VEVENT
END:VCALENDAR