BEGIN:VCALENDAR
VERSION:2.0
PRODID:-//Grotte - ECPv4.4.1.1//NONSGML v1.0//EN
CALSCALE:GREGORIAN
METHOD:PUBLISH
X-WR-CALNAME:Grotte
X-ORIGINAL-URL:https://grotte-hannover.de
X-WR-CALDESC:Events for Grotte
BEGIN:VEVENT
DTSTART;TZID=Europe/Berlin:20240702T210000
DTEND;TZID=Europe/Berlin:20240702T233000
DTSTAMP:20260423T052157
CREATED:20240628T205643Z
LAST-MODIFIED:20240628T205643Z
UID:1056-1719954000-1719963000@grotte-hannover.de
SUMMARY:EM Achtelfinale Österreich- Türkei
DESCRIPTION:
URL:https://grotte-hannover.de/event/em-achtelfinale-oesterreich-tuerkei/
END:VEVENT
END:VCALENDAR