BEGIN:VCALENDAR
VERSION:2.0
PRODID:-//Grotte - ECPv4.4.1.1//NONSGML v1.0//EN
CALSCALE:GREGORIAN
METHOD:PUBLISH
X-WR-CALNAME:Grotte
X-ORIGINAL-URL:https://grotte-hannover.de
X-WR-CALDESC:Events for Grotte
BEGIN:VEVENT
DTSTART;TZID=Europe/Berlin:20240630T180000
DTEND;TZID=Europe/Berlin:20240630T200000
DTSTAMP:20260425T122431
CREATED:20240628T205125Z
LAST-MODIFIED:20240628T205125Z
UID:1046-1719770400-1719777600@grotte-hannover.de
SUMMARY:EM Achtelfinale England Slowakei
DESCRIPTION:
URL:https://grotte-hannover.de/event/em-achtelfinale-england-slowakei/
END:VEVENT
END:VCALENDAR