BEGIN:VCALENDAR
VERSION:2.0
PRODID:-//Grotte - ECPv4.4.1.1//NONSGML v1.0//EN
CALSCALE:GREGORIAN
METHOD:PUBLISH
X-WR-CALNAME:Grotte
X-ORIGINAL-URL:https://grotte-hannover.de
X-WR-CALDESC:Events for Grotte
BEGIN:VEVENT
DTSTART;TZID=Europe/Berlin:20171008T203000
DTEND;TZID=Europe/Berlin:20171008T223000
DTSTAMP:20260421T040515
CREATED:20170227T203305Z
LAST-MODIFIED:20170227T203305Z
UID:239-1507494600-1507501800@grotte-hannover.de
SUMMARY:Deutschland vs Aserbaidschan
DESCRIPTION:WM- Qualifikation Gruppenphase
URL:https://grotte-hannover.de/event/deutschland-vs-aserbaidschan/
END:VEVENT
END:VCALENDAR