BEGIN:VCALENDAR
VERSION:2.0
PRODID:-//Grotte - ECPv4.4.1.1//NONSGML v1.0//EN
CALSCALE:GREGORIAN
METHOD:PUBLISH
X-WR-CALNAME:Grotte
X-ORIGINAL-URL:https://grotte-hannover.de
X-WR-CALDESC:Events for Grotte
BEGIN:VEVENT
DTSTART;TZID=Europe/Berlin:20170904T203000
DTEND;TZID=Europe/Berlin:20170904T223000
DTSTAMP:20260421T100046
CREATED:20170503T165416Z
LAST-MODIFIED:20170503T165416Z
UID:342-1504557000-1504564200@grotte-hannover.de
SUMMARY:Deutschland - Norwegen
DESCRIPTION:
URL:https://grotte-hannover.de/event/deutschland-norwegen/
LOCATION:Große Pfahlstr. 14\, Hannover\, Niedersachsen\, 30161\, Deutschland
END:VEVENT
END:VCALENDAR