BEGIN:VCALENDAR
VERSION:2.0
PRODID:-//Grotte - ECPv4.4.1.1//NONSGML v1.0//EN
CALSCALE:GREGORIAN
METHOD:PUBLISH
X-WR-CALNAME:Grotte
X-ORIGINAL-URL:https://grotte-hannover.de
X-WR-CALDESC:Events for Grotte
BEGIN:VEVENT
DTSTART;TZID=Europe/Berlin:20171114T203000
DTEND;TZID=Europe/Berlin:20171114T223000
DTSTAMP:20260421T040045
CREATED:20171106T203707Z
LAST-MODIFIED:20171106T203707Z
UID:420-1510691400-1510698600@grotte-hannover.de
SUMMARY:Deutschland - Frankreich
DESCRIPTION:Länderspiel
URL:https://grotte-hannover.de/event/deutschland-frankreich/
LOCATION:Große Pfahlstr. 14\, Hannover\, Niedersachsen\, 30161\, Deutschland
END:VEVENT
END:VCALENDAR