BEGIN:VCALENDAR
VERSION:2.0
PRODID:-//Grotte - ECPv4.4.1.1//NONSGML v1.0//EN
CALSCALE:GREGORIAN
METHOD:PUBLISH
X-WR-CALNAME:Grotte
X-ORIGINAL-URL:https://grotte-hannover.de
X-WR-CALDESC:Events for Grotte
BEGIN:VEVENT
DTSTART;TZID=Europe/Berlin:20170411T080000
DTEND;TZID=Europe/Berlin:20170411T170000
DTSTAMP:20260421T135016
CREATED:20170316T201727Z
LAST-MODIFIED:20170403T184547Z
UID:290-1491897600-1491930000@grotte-hannover.de
SUMMARY:Dortmund vs Monaco
DESCRIPTION:Champions league Viertelfinale
URL:https://grotte-hannover.de/event/champions-league-hinspiel-viertelfinale/
LOCATION:Große Pfahlstr. 14\, Hannover\, Niedersachsen\, 30161\, Deutschland
END:VEVENT
END:VCALENDAR