BEGIN:VCALENDAR
VERSION:2.0
PRODID:-//Grotte - ECPv4.4.1.1//NONSGML v1.0//EN
CALSCALE:GREGORIAN
METHOD:PUBLISH
X-WR-CALNAME:Grotte
X-ORIGINAL-URL:https://grotte-hannover.de
X-WR-CALDESC:Events for Grotte
BEGIN:VEVENT
DTSTART;TZID=Europe/Berlin:20170628T200000
DTEND;TZID=Europe/Berlin:20170628T220000
DTSTAMP:20260421T153353
CREATED:20170612T131726Z
LAST-MODIFIED:20170612T131726Z
UID:371-1498680000-1498687200@grotte-hannover.de
SUMMARY:A1 -:- B2
DESCRIPTION:FIFA CONFEDERATIONS CUP
URL:https://grotte-hannover.de/event/a1-b2/
LOCATION:Große Pfahlstr. 14\, Hannover\, Niedersachsen\, 30161\, Deutschland
END:VEVENT
END:VCALENDAR