BEGIN:VCALENDAR
VERSION:2.0
PRODID:-//Grotte - ECPv4.4.1.1//NONSGML v1.0//EN
CALSCALE:GREGORIAN
METHOD:PUBLISH
X-WR-CALNAME:Grotte
X-ORIGINAL-URL:https://grotte-hannover.de
X-WR-CALDESC:Events for Grotte
BEGIN:VEVENT
DTSTART;TZID=Europe/Berlin:20171226T200000
DTEND;TZID=Europe/Berlin:20171227T020000
DTSTAMP:20260420T125316
CREATED:20171106T205401Z
LAST-MODIFIED:20171106T205401Z
UID:435-1514318400-1514340000@grotte-hannover.de
SUMMARY:2. Weihnachtstag geöffnet ab 20Uhr :)
DESCRIPTION:
URL:https://grotte-hannover.de/event/2-weihnachtstag-geoeffnet-ab-20uhr/
LOCATION:Große Pfahlstr. 14\, Hannover\, Niedersachsen\, 30161\, Deutschland
END:VEVENT
END:VCALENDAR